
BEGIN:VCALENDAR
VERSION:2.0
PRODID:-//Les artothèques - ECPv6.15.20//NONSGML v1.0//EN
CALSCALE:GREGORIAN
METHOD:PUBLISH
X-WR-CALNAME:Les artothèques
X-ORIGINAL-URL:https://adra-artotheques.com
X-WR-CALDESC:Évènements pour Les artothèques
REFRESH-INTERVAL;VALUE=DURATION:PT1H
X-Robots-Tag:noindex
X-PUBLISHED-TTL:PT1H
BEGIN:VTIMEZONE
TZID:Europe/Paris
BEGIN:DAYLIGHT
TZOFFSETFROM:+0100
TZOFFSETTO:+0200
TZNAME:CEST
DTSTART:20240331T010000
END:DAYLIGHT
BEGIN:STANDARD
TZOFFSETFROM:+0200
TZOFFSETTO:+0100
TZNAME:CET
DTSTART:20241027T010000
END:STANDARD
BEGIN:DAYLIGHT
TZOFFSETFROM:+0100
TZOFFSETTO:+0200
TZNAME:CEST
DTSTART:20250330T010000
END:DAYLIGHT
BEGIN:STANDARD
TZOFFSETFROM:+0200
TZOFFSETTO:+0100
TZNAME:CET
DTSTART:20251026T010000
END:STANDARD
BEGIN:DAYLIGHT
TZOFFSETFROM:+0100
TZOFFSETTO:+0200
TZNAME:CEST
DTSTART:20260329T010000
END:DAYLIGHT
BEGIN:STANDARD
TZOFFSETFROM:+0200
TZOFFSETTO:+0100
TZNAME:CET
DTSTART:20261025T010000
END:STANDARD
BEGIN:DAYLIGHT
TZOFFSETFROM:+0100
TZOFFSETTO:+0200
TZNAME:CEST
DTSTART:20270328T010000
END:DAYLIGHT
BEGIN:STANDARD
TZOFFSETFROM:+0200
TZOFFSETTO:+0100
TZNAME:CET
DTSTART:20271031T010000
END:STANDARD
END:VTIMEZONE
BEGIN:VEVENT
DTSTART;VALUE=DATE:20260106
DTEND;VALUE=DATE:20260308
DTSTAMP:20260421T164216
CREATED:20260105T113912Z
LAST-MODIFIED:20260216T153955Z
UID:10000200-1767657600-1772927999@adra-artotheques.com
SUMMARY:Exposition MESSAGES / IMAGES\, graphisme d’intérêt général
DESCRIPTION:L’artothèque de Vitré Communauté présente l’exposition MESSAGES / IMAGES Graphisme d’intérêt général.Présentée au sein de l’artothèque Quai des Arts\, cette exposition est accessible à toutes et tous et invite à découvrir le graphisme comme un outil de réflexion et d’engagement citoyen. Elle propose un regard contemporain sur la manière dont mots et images peuvent porter des messages responsables et questionner notre rapport au monde. \nLieu : Artothèque Quai des Arts\, 1 rue du Bourg-aux-Moines\, 35500 VitréÀ travers une sélection d’affiches issues du design graphique contemporain\, l’exposition met en lumière la créativité des graphistes et leur capacité à faire dialoguer texte et image. Ces compositions visuelles\, pensées pour l’espace public\, transmettent des valeurs citoyennes\, sociales et culturelles\, tout en rendant les messages accessibles au plus grand nombre. \nPrésentation de l’exposition :Issue d’une commande nationale de la Cité internationale de la langue française et du Centre national des arts plastiques (Cnap)\, MESSAGES / IMAGES rassemble des œuvres qui témoignent de la richesse et de l’inventivité du graphisme d’intérêt général. Diffusée par les artothèques membres de l’Association de développement et de recherche sur les artothèques (ADRA)\, l’exposition interroge le pouvoir des images et du langage dans la transmission des idées et la sensibilisation des publics.Entre typographies expressives\, compositions visuelles fortes et messages engagés\, les affiches présentées invitent à porter un regard critique sur notre environnement visuel et à repenser le graphisme comme un véritable outil de communication citoyenne. \nCette exposition est organisée par l’artothèque de Vitré Communauté\, en lien avec le Centre national des arts plastiques et le réseau des artothèques membres de l’ADRA. \nVisites guidéesVendredis 9 et 16 janvier\, de 17h à 18hSamedis 14 et 28 février\, de 17h à 18h \nCrédit : MESSAGES / IMAGES Graphisme d’intérêt général
URL:https://adra-artotheques.com/evenement/messages-images-graphisme/
LOCATION:Artothèque de Vitré\, 1 rue du Bourg-aux-Moines\, Vitré\, 35500\, France
CATEGORIES:Artothèque de Vitré
ATTACH;FMTTYPE=image/png:https://adra-artotheques.com/wp-content/uploads/2026/01/Capture-decran-2026-01-05-a-14.19.06.png
END:VEVENT
BEGIN:VEVENT
DTSTART;VALUE=DATE:20250607
DTEND;VALUE=DATE:20251001
DTSTAMP:20260421T164216
CREATED:20250527T080917Z
LAST-MODIFIED:20250603T123908Z
UID:10000194-1749254400-1759276799@adra-artotheques.com
SUMMARY:Amaury da Cunha - Cœur bleu
DESCRIPTION:Cœur bleu est une exposition née d’une résidence de création d’Amaury da Cunha à l’artothèque de Vitré Communauté. Elle accompagne la parution de son livre éponyme\, publié aux éditions Filigranes.\n« Cœur bleu\, voyage en Bretagne est une série de photographies prises pendant une année autour du château des Flégés\, qui a marqué une partie de mon enfance. On y allait en coup de vent\, deux ou trois fois par an\, ce qui suffisait à me faire frémir et rêver. Je me souviens d’une mare d’eau stagnante\, d’un trésor qu’on disait caché sous la septième marche d’un escalier en granit\, et de mon arrière-grand-mère malade qui ne quittait presque jamais sa chambre.\nQuarante ans après\, je suis retourné au château pendant de courts séjours\, au rythme des saisons. J’ai photographié sans doute des souvenirs d’enfance\, et j’ai aussi écrit sur ce qu’il ne m’était plus possible de voir. J’ai voulu entrer dans cette histoire comme dans un roman. » –\nAmaury da Cunha\nUne exposition à découvrir au fil des villages :\nGrâce à un partenariat entre Vitré Communauté et les communes de Landavran\, Taillis et La Selle-Guerchaise\, l’exposition Cœur bleu invite les visiteurs à découvrir les œuvres d’Amaury da Cunha au gré d’une déambulation dans les bourgs. Le livre Cœur bleu peut être consulté dans les mairies partenaires\, à la bibliothèque de Taillis et à l’artothèque I Quai des arts.\nCœur bleu est présentée du 7 juin 2025 au 30 avril 2026\, en extérieur\, à Landavran\, à Taillis et à La Selle-Guerchaise \nVernissage le vendredi 6 juin 2025 à partir de 18h30\nArtothèque I Quai des arts\n1\, rue du Bourg-aux-Moines\, 35500 Vitré\nEXPOSITION VISIBLE :\nà l’artothèque du 7 juin au 30 septembre 2025\naux horaires d’ouverture du Quai des arts\nen extérieur à Taillis\, Landavran\, La Selle-Guerchaise\ndu 7 juin 2025 au 30 avril 2026\nPour tous renseignements: 02 99 75 16 11 \nCrédits photo: Amaury da Cunha\, détail
URL:https://adra-artotheques.com/evenement/amaury-da-cunha-coeur-bleu/
LOCATION:Artothèque de Vitré\, 1 rue du Bourg-aux-Moines\, Vitré\, 35500\, France
CATEGORIES:Artothèque de Vitré
ATTACH;FMTTYPE=image/jpeg:https://adra-artotheques.com/wp-content/uploads/2025/05/Amaury-da-Cunha_3-16-9.jpg
END:VEVENT
END:VCALENDAR