
BEGIN:VCALENDAR
VERSION:2.0
PRODID:-//Les artothèques - ECPv6.15.20//NONSGML v1.0//EN
CALSCALE:GREGORIAN
METHOD:PUBLISH
X-ORIGINAL-URL:https://adra-artotheques.com
X-WR-CALDESC:Évènements pour Les artothèques
REFRESH-INTERVAL;VALUE=DURATION:PT1H
X-Robots-Tag:noindex
X-PUBLISHED-TTL:PT1H
BEGIN:VTIMEZONE
TZID:Europe/Paris
BEGIN:DAYLIGHT
TZOFFSETFROM:+0100
TZOFFSETTO:+0200
TZNAME:CEST
DTSTART:20220327T010000
END:DAYLIGHT
BEGIN:STANDARD
TZOFFSETFROM:+0200
TZOFFSETTO:+0100
TZNAME:CET
DTSTART:20221030T010000
END:STANDARD
BEGIN:DAYLIGHT
TZOFFSETFROM:+0100
TZOFFSETTO:+0200
TZNAME:CEST
DTSTART:20230326T010000
END:DAYLIGHT
BEGIN:STANDARD
TZOFFSETFROM:+0200
TZOFFSETTO:+0100
TZNAME:CET
DTSTART:20231029T010000
END:STANDARD
BEGIN:DAYLIGHT
TZOFFSETFROM:+0100
TZOFFSETTO:+0200
TZNAME:CEST
DTSTART:20240331T010000
END:DAYLIGHT
BEGIN:STANDARD
TZOFFSETFROM:+0200
TZOFFSETTO:+0100
TZNAME:CET
DTSTART:20241027T010000
END:STANDARD
BEGIN:DAYLIGHT
TZOFFSETFROM:+0100
TZOFFSETTO:+0200
TZNAME:CEST
DTSTART:20250330T010000
END:DAYLIGHT
BEGIN:STANDARD
TZOFFSETFROM:+0200
TZOFFSETTO:+0100
TZNAME:CET
DTSTART:20251026T010000
END:STANDARD
END:VTIMEZONE
BEGIN:VEVENT
DTSTART;VALUE=DATE:20231003
DTEND;VALUE=DATE:20231220
DTSTAMP:20260420T123037
CREATED:20231003T130852Z
LAST-MODIFIED:20240930T123907Z
UID:10000021-1696291200-1703030399@adra-artotheques.com
SUMMARY:Nouvelles estampes de l’Artothèque
DESCRIPTION:[vc_row type= »in_container » full_screen_row_position= »middle » column_margin= »default » column_direction= »default » column_direction_tablet= »default » column_direction_phone= »default » bg_image= »2469″ bg_position= »center center » background_image_loading= »default » bg_repeat= »no-repeat » scene_position= »center » top_padding= »30% » bottom_padding= »30px » text_color= »dark » text_align= »left » row_border_radius= »none » row_border_radius_applies= »bg » overflow= »visible » overlay_strength= »0.3″ gradient_direction= »left_to_right » shape_divider_position= »bottom » bg_image_animation= »none » gradient_type= »default » shape_type= » »][vc_column column_padding= »no-extra-padding » column_padding_tablet= »inherit » column_padding_phone= »inherit » column_padding_position= »all » column_element_direction_desktop= »default » column_element_spacing= »default » desktop_text_alignment= »default » tablet_text_alignment= »default » phone_text_alignment= »default » background_color_opacity= »1″ background_hover_color_opacity= »1″ column_backdrop_filter= »none » column_shadow= »none » column_border_radius= »none » column_link_target= »_self » column_position= »default » gradient_direction= »left_to_right » overlay_strength= »0.3″ width= »1/1″ tablet_width_inherit= »default » animation_type= »default » bg_image_animation= »none » parallax_bg= »true » parallax_bg_speed= »fast » border_type= »simple » column_border_width= »none » column_border_style= »solid » column_padding_type= »default » gradient_type= »default »][vc_row_inner content_placement= »bottom » column_margin= »default » column_direction= »default » column_direction_tablet= »default » column_direction_phone= »default » left_padding_desktop= »35px » constrain_group_2= »yes » right_padding_desktop= »35px » left_padding_tablet= »30px » constrain_group_4= »yes » right_padding_tablet= »30px » left_padding_phone= »20px » constrain_group_6= »yes » right_padding_phone= »20px » text_align= »left » row_position= »default » row_position_tablet= »inherit » row_position_phone= »inherit » overflow= »visible » pointer_events= »all »][vc_column_inner column_padding= »no-extra-padding » column_padding_tablet= »inherit » column_padding_phone= »inherit » column_padding_position= »left » column_element_direction_desktop= »default » column_element_spacing= »default » desktop_text_alignment= »default » tablet_text_alignment= »default » phone_text_alignment= »default » background_color_opacity= »1″ background_hover_color_opacity= »1″ column_backdrop_filter= »none » font_color= »#ffffff » column_shadow= »none » column_border_radius= »none » column_link_target= »_self » overflow= »visible » gradient_direction= »left_to_right » overlay_strength= »0.3″ width= »2/3″ tablet_width_inherit= »default » animation_type= »default » bg_image_animation= »none » border_type= »advanced » column_border_style= »solid » column_padding_type= »default » gradient_type= »default »][/vc_column_inner][vc_column_inner column_padding= »no-extra-padding » column_padding_tablet= »inherit » column_padding_phone= »inherit » column_padding_position= »all » column_element_direction_desktop= »default » column_element_spacing= »default » desktop_text_alignment= »default » tablet_text_alignment= »default » phone_text_alignment= »default » background_color_opacity= »1″ background_hover_color_opacity= »1″ column_backdrop_filter= »none » column_shadow= »none » column_border_radius= »none » column_link_target= »_self » overflow= »visible » gradient_direction= »left_to_right » overlay_strength= »0.3″ width= »1/3″ tablet_width_inherit= »default » animation_type= »default » bg_image_animation= »none » border_type= »simple » column_border_width= »none » column_border_style= »solid »][/vc_column_inner][/vc_row_inner][/vc_column][/vc_row][vc_row type= »in_container » full_screen_row_position= »middle » column_margin= »custom » column_margin_custom= »5% » column_direction= »default » column_direction_tablet= »default » column_direction_phone= »column_reverse » scene_position= »center » top_padding= »2% » text_color= »dark » text_align= »left » row_border_radius= »none » row_border_radius_applies= »bg » overflow= »visible » overlay_strength= »0.3″ gradient_direction= »left_to_right » shape_divider_position= »bottom » bg_image_animation= »none » gradient_type= »default » shape_type= » »][vc_column column_padding= »no-extra-padding » column_padding_tablet= »inherit » column_padding_phone= »inherit » column_padding_position= »left » column_element_direction_desktop= »default » column_element_spacing= »default » desktop_text_alignment= »default » tablet_text_alignment= »default » phone_text_alignment= »default » background_color_opacity= »1″ background_hover_color_opacity= »1″ column_backdrop_filter= »none » column_shadow= »none » column_border_radius= »none » column_link_target= »_self » column_position= »default » gradient_direction= »left_to_right » overlay_strength= »0.3″ width= »2/3″ tablet_width_inherit= »default » animation_type= »default » bg_image_animation= »none » border_type= »simple » column_border_width= »none » column_border_style= »solid » column_padding_type= »default » gradient_type= »default »][vc_column_text css= » » text_direction= »default »]L’Artothèque de l’Espace Jean Legendre s’expose ! Découvrez les dernières œuvres qui sont entrées ces dernières années dans le fonds de notre collection déjà constitué de plus de 1600 pièces signées\, de l’époque moderne et contemporaine\, abstraites ou figuratives. \nGravures\, taille-douce\, lithographies\, ou encore sérigraphies\, l’exposition présente de nombreuses techniques et démarches artistiques\, avec de grands noms de l’art contemporain : Valerio Adami\, Ishii Atsuko\, Enki Bilal\, Robert Combas\, Violaine Fayolle\, Homek\, Pauleen K\, Konrad Klapheck\, Eve Laroche-Joubert\, Mohamed Lekleti\, Jérôme Mesnager\, Monkeybird\, Monsieur Chat\, Nash\, Obey\, Manuel Ocampo\, Jaome Plansa\, Antoni Tàpies\, Topolino\, Nick Walker…[/vc_column_text][divider line_type= »Small Line » line_alignment= »default » line_thickness= »1″ divider_color= »extra-color-3″ animate= »yes » delay= »150″ custom_height= »35″][divider line_type= »No Line » custom_height= »20″][nectar_responsive_text inherited_font_style= »default » font_size_desktop= »1em » text_direction= »default »]Crédit photo : Artothèque Compiègne[/nectar_responsive_text][/vc_column][vc_column column_padding= »no-extra-padding » column_padding_tablet= »inherit » column_padding_phone= »inherit » column_padding_position= »all » column_element_direction_desktop= »default » column_element_spacing= »default » desktop_text_alignment= »default » tablet_text_alignment= »default » phone_text_alignment= »default » sticky_content= »true » sticky_content_functionality= »js » background_color_opacity= »1″ background_hover_color_opacity= »1″ column_backdrop_filter= »none » column_shadow= »none » column_border_radius= »none » column_link_target= »_self » column_position= »default » gradient_direction= »left_to_right » overlay_strength= »0.3″ width= »1/3″ tablet_width_inherit= »default » animation_type= »default » bg_image_animation= »none » border_type= »simple » column_border_width= »none » column_border_style= »solid » column_padding_type= »default » gradient_type= »default »][vc_row_inner column_margin= »default » column_direction= »default » column_direction_tablet= »default » column_direction_phone= »default » text_align= »left » row_position= »default » row_position_tablet= »inherit » row_position_phone= »inherit » overflow= »visible » pointer_events= »all »][vc_column_inner column_padding= »padding-3-percent » column_padding_tablet= »inherit » column_padding_phone= »padding-2-percent » column_padding_position= »all » column_element_direction_desktop= »default » column_element_spacing= »default » desktop_text_alignment= »default » tablet_text_alignment= »default » phone_text_alignment= »default » background_color_opacity= »1″ background_hover_color_opacity= »1″ column_backdrop_filter= »none » column_shadow= »none » column_border_radius= »none » column_link_target= »_self » overflow= »visible » gradient_direction= »left_to_right » overlay_strength= »0.3″ width= »1/1″ tablet_width_inherit= »default » animation_type= »default » bg_image_animation= »none » border_type= »simple » column_border_width= »1px » column_border_color= »#333333″ column_border_style= »solid » enable_border_animation= »true » column_padding_type= »default » gradient_type= »default » border_animation_delay= »150″][split_line_heading animation_type= »line-reveal-by-space » font_style= »h4″ text_color= »#000000″ line_reveal_by_space_text_effect= »default » content_alignment= »default » mobile_content_alignment= »inherit » link_target= »_self » text_content= »Artothèque de Compiègne » font_size= »1em » text_direction= »default » font_line_height= »1.1″][/split_line_heading][nectar_responsive_text inherited_font_style= »default » font_size_desktop= »1em » text_direction= »default »]EXPOSITION\nDu 3 octobre au 19 décembre 2023[/nectar_responsive_text][divider line_type= »Full Width Line » line_thickness= »1″ divider_color= »extra-color-3″ animate= »yes » delay= »150″][nectar_responsive_text inherited_font_style= »default » text_direction= »default » font_size_desktop= »1em »]Entrée libre et gratuite pendant les horaires d’ouverture de l’Espace Jean Legendre[/nectar_responsive_text][/vc_column_inner][/vc_row_inner][/vc_column][/vc_row]
URL:https://adra-artotheques.com/evenement/nouvelles-estampes-de-lartotheque/
CATEGORIES:Artothèque de Compiègne
ATTACH;FMTTYPE=image/jpeg:https://adra-artotheques.com/wp-content/uploads/2024/09/artotheque-expo-nov-2023-1300x660-1.jpg
END:VEVENT
BEGIN:VEVENT
DTSTART;VALUE=DATE:20231128
DTEND;VALUE=DATE:20240114
DTSTAMP:20260420T123037
CREATED:20231128T135301Z
LAST-MODIFIED:20241017T083744Z
UID:10000020-1701129600-1705190399@adra-artotheques.com
SUMMARY:Fantasmagories\, Hélène Csech
DESCRIPTION:[vc_row type= »in_container » full_screen_row_position= »middle » column_margin= »default » column_direction= »default » column_direction_tablet= »default » column_direction_phone= »default » scene_position= »center » text_color= »dark » text_align= »left » row_border_radius= »none » row_border_radius_applies= »bg » overflow= »visible » overlay_strength= »0.3″ gradient_direction= »left_to_right » shape_divider_position= »bottom » bg_image_animation= »none »][vc_column column_padding= »no-extra-padding » column_padding_tablet= »inherit » column_padding_phone= »inherit » column_padding_position= »all » column_element_direction_desktop= »default » column_element_spacing= »default » desktop_text_alignment= »default » tablet_text_alignment= »default » phone_text_alignment= »default » background_color_opacity= »1″ background_hover_color_opacity= »1″ column_backdrop_filter= »none » column_shadow= »none » column_border_radius= »none » column_link_target= »_self » column_position= »default » gradient_direction= »left_to_right » overlay_strength= »0.3″ width= »1/1″ tablet_width_inherit= »default » animation_type= »default » bg_image_animation= »none » border_type= »simple » column_border_width= »none » column_border_style= »solid »][vc_column_text css= » » text_direction= »default »]\n28 novembre 2023 – 13 janvier 2024\nArtothèque Poitiers\n4\, rue de l’Université\, Poitiers\, 86022\, France – 05 49 52 31 74\n [/vc_column_text][/vc_column][/vc_row][vc_row type= »in_container » full_screen_row_position= »middle » column_margin= »default » column_direction= »default » column_direction_tablet= »default » column_direction_phone= »default » bg_image= »2501″ bg_position= »center center » background_image_loading= »default » bg_repeat= »no-repeat » scene_position= »center » top_padding= »30% » bottom_padding= »30px » text_color= »dark » text_align= »left » row_border_radius= »none » row_border_radius_applies= »bg » overflow= »visible » overlay_strength= »0.3″ gradient_direction= »left_to_right » shape_divider_position= »bottom » bg_image_animation= »none » gradient_type= »default » shape_type= » »][vc_column column_padding= »no-extra-padding » column_padding_tablet= »inherit » column_padding_phone= »inherit » column_padding_position= »all » column_element_direction_desktop= »default » column_element_spacing= »default » desktop_text_alignment= »default » tablet_text_alignment= »default » phone_text_alignment= »default » background_color_opacity= »1″ background_hover_color_opacity= »1″ column_backdrop_filter= »none » column_shadow= »none » column_border_radius= »none » column_link_target= »_self » column_position= »default » gradient_direction= »left_to_right » overlay_strength= »0.3″ width= »1/1″ tablet_width_inherit= »default » animation_type= »default » bg_image_animation= »none » parallax_bg= »true » parallax_bg_speed= »fast » border_type= »simple » column_border_width= »none » column_border_style= »solid » column_padding_type= »default » gradient_type= »default »][vc_row_inner content_placement= »bottom » column_margin= »default » column_direction= »default » column_direction_tablet= »default » column_direction_phone= »default » left_padding_desktop= »35px » constrain_group_2= »yes » right_padding_desktop= »35px » left_padding_tablet= »30px » constrain_group_4= »yes » right_padding_tablet= »30px » left_padding_phone= »20px » constrain_group_6= »yes » right_padding_phone= »20px » text_align= »left » row_position= »default » row_position_tablet= »inherit » row_position_phone= »inherit » overflow= »visible » pointer_events= »all »][vc_column_inner column_padding= »no-extra-padding » column_padding_tablet= »inherit » column_padding_phone= »inherit » column_padding_position= »left » column_element_direction_desktop= »default » column_element_spacing= »default » desktop_text_alignment= »default » tablet_text_alignment= »default » phone_text_alignment= »default » background_color_opacity= »1″ background_hover_color_opacity= »1″ column_backdrop_filter= »none » font_color= »#ffffff » column_shadow= »none » column_border_radius= »none » column_link_target= »_self » overflow= »visible » gradient_direction= »left_to_right » overlay_strength= »0.3″ width= »2/3″ tablet_width_inherit= »default » animation_type= »default » bg_image_animation= »none » border_type= »advanced » column_border_style= »solid » column_padding_type= »default » gradient_type= »default »][/vc_column_inner][vc_column_inner column_padding= »no-extra-padding » column_padding_tablet= »inherit » column_padding_phone= »inherit » column_padding_position= »all » column_element_direction_desktop= »default » column_element_spacing= »default » desktop_text_alignment= »default » tablet_text_alignment= »default » phone_text_alignment= »default » background_color_opacity= »1″ background_hover_color_opacity= »1″ column_backdrop_filter= »none » column_shadow= »none » column_border_radius= »none » column_link_target= »_self » overflow= »visible » gradient_direction= »left_to_right » overlay_strength= »0.3″ width= »1/3″ tablet_width_inherit= »default » animation_type= »default » bg_image_animation= »none » border_type= »simple » column_border_width= »none » column_border_style= »solid »][/vc_column_inner][/vc_row_inner][/vc_column][/vc_row][vc_row type= »in_container » full_screen_row_position= »middle » column_margin= »custom » column_margin_custom= »5% » column_direction= »default » column_direction_tablet= »default » column_direction_phone= »column_reverse » scene_position= »center » top_padding= »2% » text_color= »dark » text_align= »left » row_border_radius= »none » row_border_radius_applies= »bg » overflow= »visible » overlay_strength= »0.3″ gradient_direction= »left_to_right » shape_divider_position= »bottom » bg_image_animation= »none » gradient_type= »default » shape_type= » »][vc_column column_padding= »no-extra-padding » column_padding_tablet= »inherit » column_padding_phone= »inherit » column_padding_position= »left » column_element_direction_desktop= »default » column_element_spacing= »default » desktop_text_alignment= »default » tablet_text_alignment= »default » phone_text_alignment= »default » background_color_opacity= »1″ background_hover_color_opacity= »1″ column_backdrop_filter= »none » column_shadow= »none » column_border_radius= »none » column_link_target= »_self » column_position= »default » gradient_direction= »left_to_right » overlay_strength= »0.3″ width= »2/3″ tablet_width_inherit= »default » animation_type= »default » bg_image_animation= »none » border_type= »simple » column_border_width= »none » column_border_style= »solid » column_padding_type= »default » gradient_type= »default »][vc_column_text css= » » el_class= »med » text_direction= »default »]\nHÉLÈNE CSECH (1921 – 2013) UNE ARTISTE EN TÉNÈBRES\n[/vc_column_text][vc_column_text css= » » text_direction= »default »]Les œuvres d’Hélène Csech ne content pas d’histoires. Elles n’illustrent pas des fables. Elles ne sont pas non plus des mises en scène spéculatives ouvertes sur la métaphysique. Mais une vérité forte comme le trait\, généreuse comme la rondeur des formes\, désolée toutefois comme cette lumière que l’encre dévore et qui ne sort jamais de sa solitude : cruelle réplique de l’œuvre à la douceur de l’être qui l’accomplit. \nDans le mouvement obsessionnel de son flux et reflux entre quelques formes de prédilection\, l’œuvre d’Hélène Csech évoque les fantasmagories qui sont nées autour des villes englouties\, des cités intérieures auxquelles personne n’aura jamais plus accès\, à leur faune et à leur flore désolée de n’être que ce qu’elles sont dans le silence. \nEmerge l’insecte\, mâtiné de crustacé\, coléoptère aveugle\, sourd\, muet\, paralytique aux membres ou mandibules rétractés\, tassé comme une forteresse. Plus loin d’autres animaux apparaissent représentant une faune plutôt mythologique\, extrême-orientale qui coururent les steppes barbares\, ceux-là sont des gardiens\, mais nul ne saurait dire ce qu’ils gardent. \nEt parmi eux se tiennent des oiseaux\, on peut penser qu’ils veillent\, qu’ils surveillent même\, de leur hauteur de rapaces\, alors que de loin en loin\, comme des bornes milliaires\, surgissent les apparences des humains\, hommes ou femmes\, doués de visage\, portrait de face\, corps assis. Il y a là des images très belles : les mains\, l’avancée de la face\, la courbure enveloppée de la chair. \nLes lignes courbes ont largement pris possession de l’espace graphique d’Hélène Csech. Depuis l’origine presque\, et sans doute parce qu’elles ont rapport aux origines\, on les voit envahir le champ\, se chercher\, se croiser\, se nouer\, développant\, d’un bout à l’autre de l’œuvre\, un vaste entrelacs\, une profusion d’arabesques. Le labeur\, pour en arriver là\, est prodigieux. Il donne la mesure d’une existence créatrice\, vouée à la même matière selon un petit nombre de techniques\, en sorte que la passion ne vise aucunement à multiplier ses empires mais à posséder toujours plus profondément son unique conquête. Toute l’œuvre de cette artiste se développe sous le signe de la fidélité. \n(Hélène Csech\, Dessins et Monotypes\, catalogue raisonné\, Paris\, 1996) \n[/vc_column_text][image_with_animation image_url= »2500″ image_size= »medium » animation_type= »entrance » animation= »None » animation_movement_type= »transform_y » hover_animation= »none » alignment= » » border_radius= »none » box_shadow= »none » image_loading= »default » max_width= »100% » max_width_mobile= »default »][divider line_type= »No Line » custom_height= »20″][divider line_type= »Small Line » line_alignment= »default » line_thickness= »1″ divider_color= »extra-color-3″ animate= »yes » delay= »150″ custom_height= »35″][divider line_type= »No Line » custom_height= »20″][nectar_responsive_text inherited_font_style= »default » font_size_desktop= »1em » text_direction= »default »]Crédit photo : Hélène Csech[/nectar_responsive_text][/vc_column][vc_column column_padding= »no-extra-padding » column_padding_tablet= »inherit » column_padding_phone= »inherit » column_padding_position= »all » column_element_direction_desktop= »default » column_element_spacing= »default » desktop_text_alignment= »default » tablet_text_alignment= »default » phone_text_alignment= »default » sticky_content= »true » sticky_content_functionality= »js » background_color_opacity= »1″ background_hover_color_opacity= »1″ column_backdrop_filter= »none » column_shadow= »none » column_border_radius= »none » column_link_target= »_self » column_position= »default » gradient_direction= »left_to_right » overlay_strength= »0.3″ width= »1/3″ tablet_width_inherit= »default » animation_type= »default » bg_image_animation= »none » border_type= »simple » column_border_width= »none » column_border_style= »solid » column_padding_type= »default » gradient_type= »default »][vc_row_inner column_margin= »default » column_direction= »default » column_direction_tablet= »default » column_direction_phone= »default » text_align= »left » row_position= »default » row_position_tablet= »inherit » row_position_phone= »inherit » overflow= »visible » pointer_events= »all »][vc_column_inner column_padding= »padding-3-percent » column_padding_tablet= »inherit » column_padding_phone= »padding-2-percent » column_padding_position= »all » column_element_direction_desktop= »default » column_element_spacing= »default » desktop_text_alignment= »default » tablet_text_alignment= »default » phone_text_alignment= »default » background_color_opacity= »1″ background_hover_color_opacity= »1″ column_backdrop_filter= »none » column_shadow= »none » column_border_radius= »none » column_link_target= »_self » overflow= »visible » gradient_direction= »left_to_right » overlay_strength= »0.3″ width= »1/1″ tablet_width_inherit= »default » animation_type= »default » bg_image_animation= »none » border_type= »simple » column_border_width= »1px » column_border_color= »#333333″ column_border_style= »solid » enable_border_animation= »true » column_padding_type= »default » gradient_type= »default » border_animation_delay= »150″][split_line_heading animation_type= »line-reveal-by-space » font_style= »h4″ text_color= »#000000″ line_reveal_by_space_text_effect= »default » content_alignment= »default » mobile_content_alignment= »inherit » link_target= »_self » text_content= »Artothèque de Poitiers » font_size= »1em » text_direction= »default » font_line_height= »1.1″][/split_line_heading][nectar_responsive_text inherited_font_style= »default » font_size_desktop= »1em » text_direction= »default »]EXPOSITION\nDu 28 nov 2023 au 13 janvier 2024[/nectar_responsive_text][divider line_type= »Full Width Line » line_thickness= »1″ divider_color= »extra-color-3″ animate= »yes » delay= »150″][nectar_responsive_text inherited_font_style= »default » text_direction= »default » font_size_desktop= »1em »]Informations\n\nArtothèque de Poitiers\nMédiathèque François-Mitterrand[/nectar_responsive_text][/vc_column_inner][/vc_row_inner][/vc_column][/vc_row]
URL:https://adra-artotheques.com/evenement/fantasmagories-helene-csech/
LOCATION:Artothèque Poitiers\, 4\, rue de l’Université\, Poitiers\, 86022\, France
CATEGORIES:Artothèque de Poitiers
ATTACH;FMTTYPE=image/jpeg:https://adra-artotheques.com/wp-content/uploads/2024/09/image-evnmt-artotheque-fantasmagories.jpg
END:VEVENT
END:VCALENDAR