
BEGIN:VCALENDAR
VERSION:2.0
PRODID:-//Les artothèques - ECPv6.15.20//NONSGML v1.0//EN
CALSCALE:GREGORIAN
METHOD:PUBLISH
X-WR-CALNAME:Les artothèques
X-ORIGINAL-URL:https://adra-artotheques.com
X-WR-CALDESC:Évènements pour Les artothèques
REFRESH-INTERVAL;VALUE=DURATION:PT1H
X-Robots-Tag:noindex
X-PUBLISHED-TTL:PT1H
BEGIN:VTIMEZONE
TZID:Europe/Paris
BEGIN:DAYLIGHT
TZOFFSETFROM:+0100
TZOFFSETTO:+0200
TZNAME:CEST
DTSTART:20220327T010000
END:DAYLIGHT
BEGIN:STANDARD
TZOFFSETFROM:+0200
TZOFFSETTO:+0100
TZNAME:CET
DTSTART:20221030T010000
END:STANDARD
BEGIN:DAYLIGHT
TZOFFSETFROM:+0100
TZOFFSETTO:+0200
TZNAME:CEST
DTSTART:20230326T010000
END:DAYLIGHT
BEGIN:STANDARD
TZOFFSETFROM:+0200
TZOFFSETTO:+0100
TZNAME:CET
DTSTART:20231029T010000
END:STANDARD
BEGIN:DAYLIGHT
TZOFFSETFROM:+0100
TZOFFSETTO:+0200
TZNAME:CEST
DTSTART:20240331T010000
END:DAYLIGHT
BEGIN:STANDARD
TZOFFSETFROM:+0200
TZOFFSETTO:+0100
TZNAME:CET
DTSTART:20241027T010000
END:STANDARD
END:VTIMEZONE
BEGIN:VEVENT
DTSTART;VALUE=DATE:20230502
DTEND;VALUE=DATE:20230827
DTSTAMP:20260420T210543
CREATED:20240924T142424Z
LAST-MODIFIED:20240930T124708Z
UID:10000028-1682985600-1693094399@adra-artotheques.com
SUMMARY:« L’Art Zine s’emporte »
DESCRIPTION:[vc_row type= »in_container » full_screen_row_position= »middle » column_margin= »default » column_direction= »default » column_direction_tablet= »default » column_direction_phone= »default » bg_image= »2522″ bg_position= »center center » background_image_loading= »default » bg_repeat= »no-repeat » scene_position= »center » top_padding= »30% » bottom_padding= »30px » text_color= »dark » text_align= »left » row_border_radius= »none » row_border_radius_applies= »bg » overflow= »visible » overlay_strength= »0.3″ gradient_direction= »left_to_right » shape_divider_position= »bottom » bg_image_animation= »none » gradient_type= »default » shape_type= » »][vc_column column_padding= »no-extra-padding » column_padding_tablet= »inherit » column_padding_phone= »inherit » column_padding_position= »all » column_element_direction_desktop= »default » column_element_spacing= »default » desktop_text_alignment= »default » tablet_text_alignment= »default » phone_text_alignment= »default » background_color_opacity= »1″ background_hover_color_opacity= »1″ column_backdrop_filter= »none » column_shadow= »none » column_border_radius= »none » column_link_target= »_self » column_position= »default » gradient_direction= »left_to_right » overlay_strength= »0.3″ width= »1/1″ tablet_width_inherit= »default » animation_type= »default » bg_image_animation= »none » parallax_bg= »true » parallax_bg_speed= »fast » border_type= »simple » column_border_width= »none » column_border_style= »solid » column_padding_type= »default » gradient_type= »default »][vc_row_inner content_placement= »bottom » column_margin= »default » column_direction= »default » column_direction_tablet= »default » column_direction_phone= »default » left_padding_desktop= »35px » constrain_group_2= »yes » right_padding_desktop= »35px » left_padding_tablet= »30px » constrain_group_4= »yes » right_padding_tablet= »30px » left_padding_phone= »20px » constrain_group_6= »yes » right_padding_phone= »20px » text_align= »left » row_position= »default » row_position_tablet= »inherit » row_position_phone= »inherit » overflow= »visible » pointer_events= »all »][vc_column_inner column_padding= »no-extra-padding » column_padding_tablet= »inherit » column_padding_phone= »inherit » column_padding_position= »left » column_element_direction_desktop= »default » column_element_spacing= »default » desktop_text_alignment= »default » tablet_text_alignment= »default » phone_text_alignment= »default » background_color_opacity= »1″ background_hover_color_opacity= »1″ column_backdrop_filter= »none » font_color= »#ffffff » column_shadow= »none » column_border_radius= »none » column_link_target= »_self » overflow= »visible » gradient_direction= »left_to_right » overlay_strength= »0.3″ width= »2/3″ tablet_width_inherit= »default » animation_type= »default » bg_image_animation= »none » border_type= »advanced » column_border_style= »solid » column_padding_type= »default » gradient_type= »default »][/vc_column_inner][vc_column_inner column_padding= »no-extra-padding » column_padding_tablet= »inherit » column_padding_phone= »inherit » column_padding_position= »all » column_element_direction_desktop= »default » column_element_spacing= »default » desktop_text_alignment= »default » tablet_text_alignment= »default » phone_text_alignment= »default » background_color_opacity= »1″ background_hover_color_opacity= »1″ column_backdrop_filter= »none » column_shadow= »none » column_border_radius= »none » column_link_target= »_self » overflow= »visible » gradient_direction= »left_to_right » overlay_strength= »0.3″ width= »1/3″ tablet_width_inherit= »default » animation_type= »default » bg_image_animation= »none » border_type= »simple » column_border_width= »none » column_border_style= »solid »][/vc_column_inner][/vc_row_inner][/vc_column][/vc_row][vc_row type= »in_container » full_screen_row_position= »middle » column_margin= »custom » column_margin_custom= »5% » column_direction= »default » column_direction_tablet= »default » column_direction_phone= »column_reverse » scene_position= »center » top_padding= »2% » text_color= »dark » text_align= »left » row_border_radius= »none » row_border_radius_applies= »bg » overflow= »visible » overlay_strength= »0.3″ gradient_direction= »left_to_right » shape_divider_position= »bottom » bg_image_animation= »none » gradient_type= »default » shape_type= » »][vc_column column_padding= »no-extra-padding » column_padding_tablet= »inherit » column_padding_phone= »inherit » column_padding_position= »left » column_element_direction_desktop= »default » column_element_spacing= »default » desktop_text_alignment= »default » tablet_text_alignment= »default » phone_text_alignment= »default » background_color_opacity= »1″ background_hover_color_opacity= »1″ column_backdrop_filter= »none » column_shadow= »none » column_border_radius= »none » column_link_target= »_self » column_position= »default » gradient_direction= »left_to_right » overlay_strength= »0.3″ width= »2/3″ tablet_width_inherit= »default » animation_type= »default » bg_image_animation= »none » border_type= »simple » column_border_width= »none » column_border_style= »solid » column_padding_type= »default » gradient_type= »default »][vc_column_text css= » » text_direction= »default »]La Médiathèque François-Mitterrand présente les œuvres acquises par l’artothèque en 2022 et 2023. Les artistes exposés seront les suivants \nPascale Remita\, Sibylle Huré\, Jakob Gautel\, Laurent Sfar\, Claudie Fillon\, Nadia Sabourin\, Ekzod\, Rémy Penard\, Véronique Beland\, Patrick Métais\, Jaleh Talebpouramiri\, François Bouillon\, Pascal Audin\, Piko Paséos\, Brunö\, David Snug\, Guillaume Chiron\, Patrick Condouret\, Mado Chadebec\, Fatmat\, Sam Lee\, Arthur Cousew\, Rhama Neili\, Olivier Rocheau\, Marc Moza\, Morgan Pansier\, Mr Moutons\, Olivier Rocheau\, Mado Chadebec\, Bill Noir\, Julien Michaud \nPour cette sixième édition\, L’art s’emporte devient L’art-Zine en complicité avec la Fanzinothèque de Poitiers. Publications underground\, fanzines\, microédition\, sérigraphies sont à l’honneur au cœur de l’exposition des œuvres de l’artothèque pour une immersion dans l’univers du DIY (Do It Yourself\, fais-le toi-même). \nPendant toute la durée de l’exposition découvrez sur les vitres de la médiathèque le travail de l’artiste « Les Moutons » qui nous donne à voir sa vision de la vie des moutons : « Les études éthologiques montrent que les moutons sont des animaux extrêmement intelligents avec des vies sociales\, mentales et émotionnelles riches et complexes. Entre autres faits fascinants des brebis peuvent tomber amoureuses\, avoir de meilleurs(es) amies ou encore être dévastées quand un(e) de leurs proches meurt où est envoyé(e) à l’abattoir. » Source L214. \nL’art à la gomme #2 \nL’art s’emporte\, c’est aussi L’art à la gomme\, un parcours d’éducation artistique et culturelle mis en place avec une classe de 6e du collège Jules Verne de Buxerolles et leurs enseignantes d’art plastique et de français. Tout au long de l’année les élèves ont pu rencontrer des artistes plasticiens et s’essayer à différentes techniques artistiques : fusain et gomme avec Nadia Sabourin\, street art avec Sibylle Huret\, light painting avec Stéphane Le Garff et bande dessinée avec Théo Daval. L’expérience des artistes en herbe compilée sous la forme d’un fanzine sera présentée lors de vernissage. \nRéunis en commission d’acquisition (avec un budget et des choix argumentés) les élèves ont choisi les œuvres qui viennent compléter la collection de l’artothèque pour enfants Les P’tits cadres. Leurs choix sont à découvrir dans l’exposition.[/vc_column_text][divider line_type= »No Line » custom_height= »20″][image_with_animation image_url= »2539″ image_size= »full » animation_type= »entrance » animation= »None » animation_movement_type= »transform_y » hover_animation= »none » alignment= » » border_radius= »none » box_shadow= »none » image_loading= »default » max_width= »100% » max_width_mobile= »default »][nectar_responsive_text inherited_font_style= »default » font_size_desktop= »1em » text_direction= »default »]Sans titre\, Claudie Fillon[/nectar_responsive_text][divider line_type= »No Line » custom_height= »20″][image_with_animation image_url= »2540″ image_size= »full » animation_type= »entrance » animation= »None » animation_movement_type= »transform_y » hover_animation= »none » alignment= » » border_radius= »none » box_shadow= »none » image_loading= »default » max_width= »100% » max_width_mobile= »default »][nectar_responsive_text inherited_font_style= »default » font_size_desktop= »1em » text_direction= »default »]Vierge noire\, François Bouillon[/nectar_responsive_text][divider line_type= »Small Line » line_alignment= »default » line_thickness= »1″ divider_color= »extra-color-3″ animate= »yes » delay= »150″ custom_height= »35″][divider line_type= »No Line » custom_height= »20″][nectar_responsive_text inherited_font_style= »default » font_size_desktop= »1em » text_direction= »default »]Crédit photo : autoportrait-Jaleh Talebpouramiri[/nectar_responsive_text][/vc_column][vc_column column_padding= »no-extra-padding » column_padding_tablet= »inherit » column_padding_phone= »inherit » column_padding_position= »all » column_element_direction_desktop= »default » column_element_spacing= »default » desktop_text_alignment= »default » tablet_text_alignment= »default » phone_text_alignment= »default » sticky_content= »true » sticky_content_functionality= »js » background_color_opacity= »1″ background_hover_color_opacity= »1″ column_backdrop_filter= »none » column_shadow= »none » column_border_radius= »none » column_link_target= »_self » column_position= »default » gradient_direction= »left_to_right » overlay_strength= »0.3″ width= »1/3″ tablet_width_inherit= »default » animation_type= »default » bg_image_animation= »none » border_type= »simple » column_border_width= »none » column_border_style= »solid » column_padding_type= »default » gradient_type= »default »][vc_row_inner column_margin= »default » column_direction= »default » column_direction_tablet= »default » column_direction_phone= »default » text_align= »left » row_position= »default » row_position_tablet= »inherit » row_position_phone= »inherit » overflow= »visible » pointer_events= »all »][vc_column_inner column_padding= »padding-3-percent » column_padding_tablet= »inherit » column_padding_phone= »padding-2-percent » column_padding_position= »all » column_element_direction_desktop= »default » column_element_spacing= »default » desktop_text_alignment= »default » tablet_text_alignment= »default » phone_text_alignment= »default » background_color_opacity= »1″ background_hover_color_opacity= »1″ column_backdrop_filter= »none » column_shadow= »none » column_border_radius= »none » column_link_target= »_self » overflow= »visible » gradient_direction= »left_to_right » overlay_strength= »0.3″ width= »1/1″ tablet_width_inherit= »default » animation_type= »default » bg_image_animation= »none » border_type= »simple » column_border_width= »1px » column_border_color= »#333333″ column_border_style= »solid » enable_border_animation= »true » column_padding_type= »default » gradient_type= »default » border_animation_delay= »150″][split_line_heading animation_type= »line-reveal-by-space » font_style= »h4″ text_color= »#000000″ line_reveal_by_space_text_effect= »default » content_alignment= »default » mobile_content_alignment= »inherit » link_target= »_self » text_content= »Artothèque de Poitiers » font_size= »1em » text_direction= »default » font_line_height= »1.1″][/split_line_heading][nectar_responsive_text inherited_font_style= »default » font_size_desktop= »1em » text_direction= »default »]EXPOSITIONS NOUVELLES ACQUISITIONS\nDu 2 mai au 26 août 2023[/nectar_responsive_text][/vc_column_inner][/vc_row_inner][/vc_column][/vc_row]
URL:https://adra-artotheques.com/evenement/lart-zine-semporte/
CATEGORIES:Artothèque de Poitiers
ATTACH;FMTTYPE=image/jpeg:https://adra-artotheques.com/wp-content/uploads/2024/09/arthoteque-3.jpg
END:VEVENT
BEGIN:VEVENT
DTSTART;VALUE=DATE:20230512
DTEND;VALUE=DATE:20230923
DTSTAMP:20260420T210543
CREATED:20230512T140701Z
LAST-MODIFIED:20240930T124628Z
UID:10000027-1683849600-1695427199@adra-artotheques.com
SUMMARY:Laurent Lacotte\, TOUS LES PRÉTEXTES
DESCRIPTION:[vc_row type= »in_container » full_screen_row_position= »middle » column_margin= »default » column_direction= »default » column_direction_tablet= »default » column_direction_phone= »default » bg_image= »2525″ bg_position= »center center » background_image_loading= »default » bg_repeat= »no-repeat » scene_position= »center » top_padding= »30% » bottom_padding= »30px » text_color= »dark » text_align= »left » row_border_radius= »none » row_border_radius_applies= »bg » overflow= »visible » overlay_strength= »0.3″ gradient_direction= »left_to_right » shape_divider_position= »bottom » bg_image_animation= »none » gradient_type= »default » shape_type= » »][vc_column column_padding= »no-extra-padding » column_padding_tablet= »inherit » column_padding_phone= »inherit » column_padding_position= »all » column_element_direction_desktop= »default » column_element_spacing= »default » desktop_text_alignment= »default » tablet_text_alignment= »default » phone_text_alignment= »default » background_color_opacity= »1″ background_hover_color_opacity= »1″ column_backdrop_filter= »none » column_shadow= »none » column_border_radius= »none » column_link_target= »_self » column_position= »default » gradient_direction= »left_to_right » overlay_strength= »0.3″ width= »1/1″ tablet_width_inherit= »default » animation_type= »default » bg_image_animation= »none » parallax_bg= »true » parallax_bg_speed= »fast » border_type= »simple » column_border_width= »none » column_border_style= »solid » column_padding_type= »default » gradient_type= »default »][vc_row_inner content_placement= »bottom » column_margin= »default » column_direction= »default » column_direction_tablet= »default » column_direction_phone= »default » left_padding_desktop= »35px » constrain_group_2= »yes » right_padding_desktop= »35px » left_padding_tablet= »30px » constrain_group_4= »yes » right_padding_tablet= »30px » left_padding_phone= »20px » constrain_group_6= »yes » right_padding_phone= »20px » text_align= »left » row_position= »default » row_position_tablet= »inherit » row_position_phone= »inherit » overflow= »visible » pointer_events= »all »][vc_column_inner column_padding= »no-extra-padding » column_padding_tablet= »inherit » column_padding_phone= »inherit » column_padding_position= »left » column_element_direction_desktop= »default » column_element_spacing= »default » desktop_text_alignment= »default » tablet_text_alignment= »default » phone_text_alignment= »default » background_color_opacity= »1″ background_hover_color_opacity= »1″ column_backdrop_filter= »none » font_color= »#ffffff » column_shadow= »none » column_border_radius= »none » column_link_target= »_self » overflow= »visible » gradient_direction= »left_to_right » overlay_strength= »0.3″ width= »2/3″ tablet_width_inherit= »default » animation_type= »default » bg_image_animation= »none » border_type= »advanced » column_border_style= »solid » column_padding_type= »default » gradient_type= »default »][/vc_column_inner][vc_column_inner column_padding= »no-extra-padding » column_padding_tablet= »inherit » column_padding_phone= »inherit » column_padding_position= »all » column_element_direction_desktop= »default » column_element_spacing= »default » desktop_text_alignment= »default » tablet_text_alignment= »default » phone_text_alignment= »default » background_color_opacity= »1″ background_hover_color_opacity= »1″ column_backdrop_filter= »none » column_shadow= »none » column_border_radius= »none » column_link_target= »_self » overflow= »visible » gradient_direction= »left_to_right » overlay_strength= »0.3″ width= »1/3″ tablet_width_inherit= »default » animation_type= »default » bg_image_animation= »none » border_type= »simple » column_border_width= »none » column_border_style= »solid »][/vc_column_inner][/vc_row_inner][/vc_column][/vc_row][vc_row type= »in_container » full_screen_row_position= »middle » column_margin= »custom » column_margin_custom= »5% » column_direction= »default » column_direction_tablet= »default » column_direction_phone= »column_reverse » scene_position= »center » top_padding= »2% » text_color= »dark » text_align= »left » row_border_radius= »none » row_border_radius_applies= »bg » overflow= »visible » overlay_strength= »0.3″ gradient_direction= »left_to_right » shape_divider_position= »bottom » bg_image_animation= »none » gradient_type= »default » shape_type= » »][vc_column column_padding= »no-extra-padding » column_padding_tablet= »inherit » column_padding_phone= »inherit » column_padding_position= »left » column_element_direction_desktop= »default » column_element_spacing= »default » desktop_text_alignment= »default » tablet_text_alignment= »default » phone_text_alignment= »default » background_color_opacity= »1″ background_hover_color_opacity= »1″ column_backdrop_filter= »none » column_shadow= »none » column_border_radius= »none » column_link_target= »_self » column_position= »default » gradient_direction= »left_to_right » overlay_strength= »0.3″ width= »2/3″ tablet_width_inherit= »default » animation_type= »default » bg_image_animation= »none » border_type= »simple » column_border_width= »none » column_border_style= »solid » column_padding_type= »default » gradient_type= »default »][vc_column_text css= » » text_direction= »default »]À l’occasion de son exposition personnelle Tous les prétextes\, Laurent Lacotte présente un corpus d’œuvres mêlant objets photographiques\, textes et estampes. \nLes objets photographiques témoignent d’actions poétiques à protocoles réalisées en divers lieux dont certaines sur le territoire aquitain. Il réunit aussi et pour la première fois une série d’éditions récentes. Au-delà du strict périmètre de la salle d’exposition\, l’artiste propose en parallèle des interventions se déployant dans la ville de Pessac.[/vc_column_text][divider line_type= »Small Line » line_alignment= »default » line_thickness= »1″ divider_color= »extra-color-3″ animate= »yes » delay= »150″ custom_height= »35″][divider line_type= »No Line » custom_height= »20″][nectar_responsive_text inherited_font_style= »default » font_size_desktop= »1em » text_direction= »default »]Crédit photo : © Laurent Lacotte[/nectar_responsive_text][/vc_column][vc_column column_padding= »no-extra-padding » column_padding_tablet= »inherit » column_padding_phone= »inherit » column_padding_position= »all » column_element_direction_desktop= »default » column_element_spacing= »default » desktop_text_alignment= »default » tablet_text_alignment= »default » phone_text_alignment= »default » sticky_content= »true » sticky_content_functionality= »js » background_color_opacity= »1″ background_hover_color_opacity= »1″ column_backdrop_filter= »none » column_shadow= »none » column_border_radius= »none » column_link_target= »_self » column_position= »default » gradient_direction= »left_to_right » overlay_strength= »0.3″ width= »1/3″ tablet_width_inherit= »default » animation_type= »default » bg_image_animation= »none » border_type= »simple » column_border_width= »none » column_border_style= »solid » column_padding_type= »default » gradient_type= »default »][vc_row_inner column_margin= »default » column_direction= »default » column_direction_tablet= »default » column_direction_phone= »default » text_align= »left » row_position= »default » row_position_tablet= »inherit » row_position_phone= »inherit » overflow= »visible » pointer_events= »all »][vc_column_inner column_padding= »padding-3-percent » column_padding_tablet= »inherit » column_padding_phone= »padding-2-percent » column_padding_position= »all » column_element_direction_desktop= »default » column_element_spacing= »default » desktop_text_alignment= »default » tablet_text_alignment= »default » phone_text_alignment= »default » background_color_opacity= »1″ background_hover_color_opacity= »1″ column_backdrop_filter= »none » column_shadow= »none » column_border_radius= »none » column_link_target= »_self » overflow= »visible » gradient_direction= »left_to_right » overlay_strength= »0.3″ width= »1/1″ tablet_width_inherit= »default » animation_type= »default » bg_image_animation= »none » border_type= »simple » column_border_width= »1px » column_border_color= »#333333″ column_border_style= »solid » enable_border_animation= »true » column_padding_type= »default » gradient_type= »default » border_animation_delay= »150″][split_line_heading animation_type= »line-reveal-by-space » font_style= »h4″ text_color= »#000000″ line_reveal_by_space_text_effect= »default » content_alignment= »default » mobile_content_alignment= »inherit » link_target= »_self » text_content= »Artothèque de Pessac » font_size= »1em » text_direction= »default » font_line_height= »1.1″][/split_line_heading][nectar_responsive_text inherited_font_style= »default » font_size_desktop= »1em » text_direction= »default »]EXPOSITION\nDu 12 mai au 22 septembre 2023[/nectar_responsive_text][divider line_type= »Full Width Line » line_thickness= »1″ divider_color= »extra-color-3″ animate= »yes » delay= »150″][nectar_responsive_text inherited_font_style= »default » text_direction= »default » font_size_desktop= »1em »]11.05.2023 à 19h\nVernissage de l’exposition\nen présence de l’artiste \n13.05.2023 à 15h\nRencontre avec Laurent Lacotte\nExposition visible du mardi au samedi de 14h à 18h[/nectar_responsive_text][/vc_column_inner][/vc_row_inner][/vc_column][/vc_row]
URL:https://adra-artotheques.com/evenement/laurent-lacotte-tous-les-pretextes/
CATEGORIES:Artothèque de Pessac
ATTACH;FMTTYPE=image/jpeg:https://adra-artotheques.com/wp-content/uploads/2024/09/arthoteque-6.jpg
END:VEVENT
END:VCALENDAR