
BEGIN:VCALENDAR
VERSION:2.0
PRODID:-//Les artothèques - ECPv6.15.20//NONSGML v1.0//EN
CALSCALE:GREGORIAN
METHOD:PUBLISH
X-ORIGINAL-URL:https://adra-artotheques.com
X-WR-CALDESC:Évènements pour Les artothèques
REFRESH-INTERVAL;VALUE=DURATION:PT1H
X-Robots-Tag:noindex
X-PUBLISHED-TTL:PT1H
BEGIN:VTIMEZONE
TZID:Europe/Paris
BEGIN:DAYLIGHT
TZOFFSETFROM:+0100
TZOFFSETTO:+0200
TZNAME:CEST
DTSTART:20220327T010000
END:DAYLIGHT
BEGIN:STANDARD
TZOFFSETFROM:+0200
TZOFFSETTO:+0100
TZNAME:CET
DTSTART:20221030T010000
END:STANDARD
BEGIN:DAYLIGHT
TZOFFSETFROM:+0100
TZOFFSETTO:+0200
TZNAME:CEST
DTSTART:20230326T010000
END:DAYLIGHT
BEGIN:STANDARD
TZOFFSETFROM:+0200
TZOFFSETTO:+0100
TZNAME:CET
DTSTART:20231029T010000
END:STANDARD
BEGIN:DAYLIGHT
TZOFFSETFROM:+0100
TZOFFSETTO:+0200
TZNAME:CEST
DTSTART:20240331T010000
END:DAYLIGHT
BEGIN:STANDARD
TZOFFSETFROM:+0200
TZOFFSETTO:+0100
TZNAME:CET
DTSTART:20241027T010000
END:STANDARD
END:VTIMEZONE
BEGIN:VEVENT
DTSTART;VALUE=DATE:20230402
DTEND;VALUE=DATE:20230531
DTSTAMP:20260421T020525
CREATED:20230402T145352Z
LAST-MODIFIED:20240930T124813Z
UID:10000033-1680393600-1685491199@adra-artotheques.com
SUMMARY:Mondes Fragiles\, Bonnie Colin
DESCRIPTION:[vc_row type= »in_container » full_screen_row_position= »middle » column_margin= »default » column_direction= »default » column_direction_tablet= »default » column_direction_phone= »default » bg_image= »2523″ bg_position= »center center » background_image_loading= »default » bg_repeat= »no-repeat » scene_position= »center » top_padding= »30% » bottom_padding= »30px » text_color= »dark » text_align= »left » row_border_radius= »none » row_border_radius_applies= »bg » overflow= »visible » overlay_strength= »0.3″ gradient_direction= »left_to_right » shape_divider_position= »bottom » bg_image_animation= »none » gradient_type= »default » shape_type= » »][vc_column column_padding= »no-extra-padding » column_padding_tablet= »inherit » column_padding_phone= »inherit » column_padding_position= »all » column_element_direction_desktop= »default » column_element_spacing= »default » desktop_text_alignment= »default » tablet_text_alignment= »default » phone_text_alignment= »default » background_color_opacity= »1″ background_hover_color_opacity= »1″ column_backdrop_filter= »none » column_shadow= »none » column_border_radius= »none » column_link_target= »_self » column_position= »default » gradient_direction= »left_to_right » overlay_strength= »0.3″ width= »1/1″ tablet_width_inherit= »default » animation_type= »default » bg_image_animation= »none » parallax_bg= »true » parallax_bg_speed= »fast » border_type= »simple » column_border_width= »none » column_border_style= »solid » column_padding_type= »default » gradient_type= »default »][vc_row_inner content_placement= »bottom » column_margin= »default » column_direction= »default » column_direction_tablet= »default » column_direction_phone= »default » left_padding_desktop= »35px » constrain_group_2= »yes » right_padding_desktop= »35px » left_padding_tablet= »30px » constrain_group_4= »yes » right_padding_tablet= »30px » left_padding_phone= »20px » constrain_group_6= »yes » right_padding_phone= »20px » text_align= »left » row_position= »default » row_position_tablet= »inherit » row_position_phone= »inherit » overflow= »visible » pointer_events= »all »][vc_column_inner column_padding= »no-extra-padding » column_padding_tablet= »inherit » column_padding_phone= »inherit » column_padding_position= »left » column_element_direction_desktop= »default » column_element_spacing= »default » desktop_text_alignment= »default » tablet_text_alignment= »default » phone_text_alignment= »default » background_color_opacity= »1″ background_hover_color_opacity= »1″ column_backdrop_filter= »none » font_color= »#ffffff » column_shadow= »none » column_border_radius= »none » column_link_target= »_self » overflow= »visible » gradient_direction= »left_to_right » overlay_strength= »0.3″ width= »2/3″ tablet_width_inherit= »default » animation_type= »default » bg_image_animation= »none » border_type= »advanced » column_border_style= »solid » column_padding_type= »default » gradient_type= »default »][/vc_column_inner][vc_column_inner column_padding= »no-extra-padding » column_padding_tablet= »inherit » column_padding_phone= »inherit » column_padding_position= »all » column_element_direction_desktop= »default » column_element_spacing= »default » desktop_text_alignment= »default » tablet_text_alignment= »default » phone_text_alignment= »default » background_color_opacity= »1″ background_hover_color_opacity= »1″ column_backdrop_filter= »none » column_shadow= »none » column_border_radius= »none » column_link_target= »_self » overflow= »visible » gradient_direction= »left_to_right » overlay_strength= »0.3″ width= »1/3″ tablet_width_inherit= »default » animation_type= »default » bg_image_animation= »none » border_type= »simple » column_border_width= »none » column_border_style= »solid »][/vc_column_inner][/vc_row_inner][/vc_column][/vc_row][vc_row type= »in_container » full_screen_row_position= »middle » column_margin= »custom » column_margin_custom= »5% » column_direction= »default » column_direction_tablet= »default » column_direction_phone= »column_reverse » scene_position= »center » top_padding= »2% » text_color= »dark » text_align= »left » row_border_radius= »none » row_border_radius_applies= »bg » overflow= »visible » overlay_strength= »0.3″ gradient_direction= »left_to_right » shape_divider_position= »bottom » bg_image_animation= »none » gradient_type= »default » shape_type= » »][vc_column column_padding= »no-extra-padding » column_padding_tablet= »inherit » column_padding_phone= »inherit » column_padding_position= »left » column_element_direction_desktop= »default » column_element_spacing= »default » desktop_text_alignment= »default » tablet_text_alignment= »default » phone_text_alignment= »default » background_color_opacity= »1″ background_hover_color_opacity= »1″ column_backdrop_filter= »none » column_shadow= »none » column_border_radius= »none » column_link_target= »_self » column_position= »default » gradient_direction= »left_to_right » overlay_strength= »0.3″ width= »2/3″ tablet_width_inherit= »default » animation_type= »default » bg_image_animation= »none » border_type= »simple » column_border_width= »none » column_border_style= »solid » column_padding_type= »default » gradient_type= »default »][vc_column_text css= » » text_direction= »default »]Réalisé entre 2020 et 2022\, l’ensemble des carnets de Bonnie Colin\, remplis de pages dessinées au pastel à l’huile ou à l’aquarelle forme une œuvre poétique et intime\, devenue au fil du temps comme une sorte d’écriture et de respiration entre les différentes pratiques de l’artiste. Pendant un peu plus de 10 ans\, le travail de Bonnie Colin s’est essentiellement tourné – faute d’espace – vers le support papier et notamment dans les pages de carnets de petite taille. Le format\, impliquant à la fois une économie et une concentration d’énergie\, a imposé presque naturellement une valeur essentielle au geste. La main parle\, le trait se fait furtif\, frémissant\, fort ou délicat\, il transpose l’émotion\, devient une langue\, une musique\, le point essentiel du récit. Par essence nomade\, le carnet\, aspire à une certaine légèreté et spontanéité. La simple obligation de « tourner la page » et de passer à autre chose\, recommencer sans cesse ou continuer\, essayer\, rater\, tenter… et malgré tout accepter de laisser une trace de ce processus\, confère au carnet une place particulière. Le simple fait de pouvoir transporter au plus près de soi ce qu’il y a de plus profond\, de plus personnel et confidentiel\, donne à cet objet une valeur presque fétiche. Dans un monde ou les murs sont devenus virtuels et ont entrainé la banalisation de l’image\, ces carnets sur supports délicats\, qui se referment comme pour protéger leur contenu\, représentent un témoignage précieux et fragile de notre époque. La nature et ses vastes étendues\, propice au calme et l’introspection y occupe une place centrale\, sans doute depuis que Bonnie Colin a quitté la foule parisienne pour les bords de Loire et ses paysages changeants au gré des variations du fleuve et de la lumière \nDans la continuité de ses paysages minimalistes dessinés à l’aquarelle ou au pastel à l’huile\, Bonnie Colin explore avec la peinture une autre façon d’appréhender l’espace et d’entrer dans la matière. On y retrouve le geste tant exploré dans les carnets : parfois caressant\, à d’autres moments plus tranchants. Ici le trait s’étire en larges aplats de couleurs aux délicates variations entre ombre et lumière\, équilibre et tension. « Peindre ça n’est pas exprimer ou représenter mais rechercher ». \nAvec la sculpture\, il est toujours question de fragilité et d’espace. Cette dernière s’est imposé à l’artiste comme un trait d’union entre le dessin et la peinture. Un passage nécessaire pour permettre à l’artiste de prendre d’autres directions dans son travail. Le papier du carnet tant aimé\, le toucher\, la fragilité de celui-ci l’ont rapidement amené vers le choix du carton comme médium. \nCette exposition est présentée dans le cadre du Printemps du dessin\, manifestation nationale qui célèbre le dessin contemporain partout en France du 20 mars au 21 juin 2023.[/vc_column_text][divider line_type= »Small Line » line_alignment= »default » line_thickness= »1″ divider_color= »extra-color-3″ animate= »yes » delay= »150″ custom_height= »35″][divider line_type= »No Line » custom_height= »20″][nectar_responsive_text inherited_font_style= »default » font_size_desktop= »1em » text_direction= »default »]Crédit photo : Détail\, carnet dessin\, Bonnie Colin\, pastel à l’huile\, 2020[/nectar_responsive_text][/vc_column][vc_column column_padding= »no-extra-padding » column_padding_tablet= »inherit » column_padding_phone= »inherit » column_padding_position= »all » column_element_direction_desktop= »default » column_element_spacing= »default » desktop_text_alignment= »default » tablet_text_alignment= »default » phone_text_alignment= »default » sticky_content= »true » sticky_content_functionality= »js » background_color_opacity= »1″ background_hover_color_opacity= »1″ column_backdrop_filter= »none » column_shadow= »none » column_border_radius= »none » column_link_target= »_self » column_position= »default » gradient_direction= »left_to_right » overlay_strength= »0.3″ width= »1/3″ tablet_width_inherit= »default » animation_type= »default » bg_image_animation= »none » border_type= »simple » column_border_width= »none » column_border_style= »solid » column_padding_type= »default » gradient_type= »default »][vc_row_inner column_margin= »default » column_direction= »default » column_direction_tablet= »default » column_direction_phone= »default » text_align= »left » row_position= »default » row_position_tablet= »inherit » row_position_phone= »inherit » overflow= »visible » pointer_events= »all »][vc_column_inner column_padding= »padding-3-percent » column_padding_tablet= »inherit » column_padding_phone= »padding-2-percent » column_padding_position= »all » column_element_direction_desktop= »default » column_element_spacing= »default » desktop_text_alignment= »default » tablet_text_alignment= »default » phone_text_alignment= »default » background_color_opacity= »1″ background_hover_color_opacity= »1″ column_backdrop_filter= »none » column_shadow= »none » column_border_radius= »none » column_link_target= »_self » overflow= »visible » gradient_direction= »left_to_right » overlay_strength= »0.3″ width= »1/1″ tablet_width_inherit= »default » animation_type= »default » bg_image_animation= »none » border_type= »simple » column_border_width= »1px » column_border_color= »#333333″ column_border_style= »solid » enable_border_animation= »true » column_padding_type= »default » gradient_type= »default » border_animation_delay= »150″][split_line_heading animation_type= »line-reveal-by-space » font_style= »h4″ text_color= »#000000″ line_reveal_by_space_text_effect= »default » content_alignment= »default » mobile_content_alignment= »inherit » link_target= »_self » text_content= »Artothèque de Hellemmes / Lille » font_size= »1em » text_direction= »default » font_line_height= »1.1″][/split_line_heading][nectar_responsive_text inherited_font_style= »default » font_size_desktop= »1em » text_direction= »default »]PRINTEMPS DU DESSIN\nDu 02 avril au 30 mai 2023[/nectar_responsive_text][divider line_type= »Full Width Line » line_thickness= »1″ divider_color= »extra-color-3″ animate= »yes » delay= »150″][nectar_responsive_text inherited_font_style= »default » text_direction= »default » font_size_desktop= »1em »]Mondes Fragiles\, autour des œuvres de Bonnie Colin\, du 2 avril au 30 mai 2023. Vernissage en présence de l’artiste\, le vendredi 31 mars à 18h30. \nOuvert tous les mardis de 16h à 20h ainsi que les dimanches 02 avril et 07 mai de 14h30 à 19h.\nEntrée libre au 144 rue Faidherbe\, 59260 Hellemmes-Lille.[/nectar_responsive_text][/vc_column_inner][/vc_row_inner][/vc_column][/vc_row]
URL:https://adra-artotheques.com/evenement/mondes-fragiles-bonnie-colin/
CATEGORIES:Artothèque Hellemmes/Lille
ATTACH;FMTTYPE=image/jpeg:https://adra-artotheques.com/wp-content/uploads/2024/09/arthoteque-4.jpg
END:VEVENT
END:VCALENDAR