
BEGIN:VCALENDAR
VERSION:2.0
PRODID:-//Les artothèques - ECPv6.15.20//NONSGML v1.0//EN
CALSCALE:GREGORIAN
METHOD:PUBLISH
X-ORIGINAL-URL:https://adra-artotheques.com
X-WR-CALDESC:Évènements pour Les artothèques
REFRESH-INTERVAL;VALUE=DURATION:PT1H
X-Robots-Tag:noindex
X-PUBLISHED-TTL:PT1H
BEGIN:VTIMEZONE
TZID:Europe/Paris
BEGIN:DAYLIGHT
TZOFFSETFROM:+0100
TZOFFSETTO:+0200
TZNAME:CEST
DTSTART:20180325T010000
END:DAYLIGHT
BEGIN:STANDARD
TZOFFSETFROM:+0200
TZOFFSETTO:+0100
TZNAME:CET
DTSTART:20181028T010000
END:STANDARD
BEGIN:DAYLIGHT
TZOFFSETFROM:+0100
TZOFFSETTO:+0200
TZNAME:CEST
DTSTART:20190331T010000
END:DAYLIGHT
BEGIN:STANDARD
TZOFFSETFROM:+0200
TZOFFSETTO:+0100
TZNAME:CET
DTSTART:20191027T010000
END:STANDARD
BEGIN:DAYLIGHT
TZOFFSETFROM:+0100
TZOFFSETTO:+0200
TZNAME:CEST
DTSTART:20200329T010000
END:DAYLIGHT
BEGIN:STANDARD
TZOFFSETFROM:+0200
TZOFFSETTO:+0100
TZNAME:CET
DTSTART:20201025T010000
END:STANDARD
END:VTIMEZONE
BEGIN:VEVENT
DTSTART;VALUE=DATE:20190208
DTEND;VALUE=DATE:20190517
DTSTAMP:20260424T011544
CREATED:20240208T155817Z
LAST-MODIFIED:20240930T132056Z
UID:10000133-1549584000-1558051199@adra-artotheques.com
SUMMARY:La Raccoon Academy / Guillaume Pinard
DESCRIPTION:[vc_row type= »in_container » full_screen_row_position= »middle » column_margin= »default » column_direction= »default » column_direction_tablet= »default » column_direction_phone= »default » bg_image= »2936″ bg_position= »center center » background_image_loading= »default » bg_repeat= »no-repeat » scene_position= »center » top_padding= »30% » bottom_padding= »30px » text_color= »dark » text_align= »left » row_border_radius= »none » row_border_radius_applies= »bg » overflow= »visible » overlay_strength= »0.3″ gradient_direction= »left_to_right » shape_divider_position= »bottom » bg_image_animation= »none » gradient_type= »default » shape_type= » »][vc_column column_padding= »no-extra-padding » column_padding_tablet= »inherit » column_padding_phone= »inherit » column_padding_position= »all » column_element_direction_desktop= »default » column_element_spacing= »default » desktop_text_alignment= »default » tablet_text_alignment= »default » phone_text_alignment= »default » background_color_opacity= »1″ background_hover_color_opacity= »1″ column_backdrop_filter= »none » column_shadow= »none » column_border_radius= »none » column_link_target= »_self » column_position= »default » gradient_direction= »left_to_right » overlay_strength= »0.3″ width= »1/1″ tablet_width_inherit= »default » animation_type= »default » bg_image_animation= »none » parallax_bg= »true » parallax_bg_speed= »fast » border_type= »simple » column_border_width= »none » column_border_style= »solid » column_padding_type= »default » gradient_type= »default »][vc_row_inner content_placement= »bottom » column_margin= »default » column_direction= »default » column_direction_tablet= »default » column_direction_phone= »default » left_padding_desktop= »35px » constrain_group_2= »yes » right_padding_desktop= »35px » left_padding_tablet= »30px » constrain_group_4= »yes » right_padding_tablet= »30px » left_padding_phone= »20px » constrain_group_6= »yes » right_padding_phone= »20px » text_align= »left » row_position= »default » row_position_tablet= »inherit » row_position_phone= »inherit » overflow= »visible » pointer_events= »all »][vc_column_inner column_padding= »no-extra-padding » column_padding_tablet= »inherit » column_padding_phone= »inherit » column_padding_position= »left » column_element_direction_desktop= »default » column_element_spacing= »default » desktop_text_alignment= »default » tablet_text_alignment= »default » phone_text_alignment= »default » background_color_opacity= »1″ background_hover_color_opacity= »1″ column_backdrop_filter= »none » font_color= »#ffffff » column_shadow= »none » column_border_radius= »none » column_link_target= »_self » overflow= »visible » gradient_direction= »left_to_right » overlay_strength= »0.3″ width= »2/3″ tablet_width_inherit= »default » animation_type= »default » bg_image_animation= »none » border_type= »advanced » column_border_style= »solid » column_padding_type= »default » gradient_type= »default »][/vc_column_inner][vc_column_inner column_padding= »no-extra-padding » column_padding_tablet= »inherit » column_padding_phone= »inherit » column_padding_position= »all » column_element_direction_desktop= »default » column_element_spacing= »default » desktop_text_alignment= »default » tablet_text_alignment= »default » phone_text_alignment= »default » background_color_opacity= »1″ background_hover_color_opacity= »1″ column_backdrop_filter= »none » column_shadow= »none » column_border_radius= »none » column_link_target= »_self » overflow= »visible » gradient_direction= »left_to_right » overlay_strength= »0.3″ width= »1/3″ tablet_width_inherit= »default » animation_type= »default » bg_image_animation= »none » border_type= »simple » column_border_width= »none » column_border_style= »solid »][/vc_column_inner][/vc_row_inner][/vc_column][/vc_row][vc_row type= »in_container » full_screen_row_position= »middle » column_margin= »custom » column_margin_custom= »5% » column_direction= »default » column_direction_tablet= »default » column_direction_phone= »column_reverse » scene_position= »center » top_padding= »2% » text_color= »dark » text_align= »left » row_border_radius= »none » row_border_radius_applies= »bg » overflow= »visible » overlay_strength= »0.3″ gradient_direction= »left_to_right » shape_divider_position= »bottom » bg_image_animation= »none » gradient_type= »default » shape_type= » »][vc_column column_padding= »no-extra-padding » column_padding_tablet= »inherit » column_padding_phone= »inherit » column_padding_position= »left » column_element_direction_desktop= »default » column_element_spacing= »default » desktop_text_alignment= »default » tablet_text_alignment= »default » phone_text_alignment= »default » background_color_opacity= »1″ background_hover_color_opacity= »1″ column_backdrop_filter= »none » column_shadow= »none » column_border_radius= »none » column_link_target= »_self » column_position= »default » gradient_direction= »left_to_right » overlay_strength= »0.3″ width= »2/3″ tablet_width_inherit= »default » animation_type= »default » bg_image_animation= »none » border_type= »simple » column_border_width= »none » column_border_style= »solid » column_padding_type= »default » gradient_type= »default »][vc_column_text css= » » text_direction= »default »]Guillaume Pinard\, né à Nantes en 1971\, vit et travaille à Rennes. Il développe une oeuvre polymorphe\, où le dessin\, la peinture et l’écriture tiennent une grande part. Artiste doté d’un riche vocabulaire graphique\, il scrute avec une douce ironie les occurrences et les significations cachées dans toutes les formes de discours\, en cherchant à vicier les hiérarchies. \nPour ce projet\, Guillaume Pinard se met plus que de mesure en scène. Il est la « dame maîtresse » d’une nouvelle série d’images\, où se croisent hommages à de vieilles idoles\, cinéphilie\, recours à la grande peinture et paysages de l’étrange. À l’instar du raton laveur\, animal totem de sa Raccoon Academy\, l’exposition se veut joviale et facétieuse\, délicate et irrévérencieuse\, aimable mais grinçante\, l’artiste oscillant comme à son habitude entre les genres\, basculant sans vergogne du prosaïsme à la grande référence\, de la tradition picturale aux clins d’oeil multiples du quotidien. \nUn regard dense qui rejoue encore et encore la carte des possibilités du dessin\, variant formats et supports dans un espace d’exposition entièrement transformé pour l’occasion.[/vc_column_text][/vc_column][vc_column column_padding= »no-extra-padding » column_padding_tablet= »inherit » column_padding_phone= »inherit » column_padding_position= »all » column_element_direction_desktop= »default » column_element_spacing= »default » desktop_text_alignment= »default » tablet_text_alignment= »default » phone_text_alignment= »default » sticky_content= »true » sticky_content_functionality= »js » background_color_opacity= »1″ background_hover_color_opacity= »1″ column_backdrop_filter= »none » column_shadow= »none » column_border_radius= »none » column_link_target= »_self » column_position= »default » gradient_direction= »left_to_right » overlay_strength= »0.3″ width= »1/3″ tablet_width_inherit= »default » animation_type= »default » bg_image_animation= »none » border_type= »simple » column_border_width= »none » column_border_style= »solid » column_padding_type= »default » gradient_type= »default »][vc_row_inner column_margin= »default » column_direction= »default » column_direction_tablet= »default » column_direction_phone= »default » text_align= »left » row_position= »default » row_position_tablet= »inherit » row_position_phone= »inherit » overflow= »visible » pointer_events= »all »][vc_column_inner column_padding= »padding-3-percent » column_padding_tablet= »inherit » column_padding_phone= »padding-2-percent » column_padding_position= »all » column_element_direction_desktop= »default » column_element_spacing= »default » desktop_text_alignment= »default » tablet_text_alignment= »default » phone_text_alignment= »default » background_color_opacity= »1″ background_hover_color_opacity= »1″ column_backdrop_filter= »none » column_shadow= »none » column_border_radius= »none » column_link_target= »_self » overflow= »visible » gradient_direction= »left_to_right » overlay_strength= »0.3″ width= »1/1″ tablet_width_inherit= »default » animation_type= »default » bg_image_animation= »none » border_type= »simple » column_border_width= »1px » column_border_color= »#333333″ column_border_style= »solid » enable_border_animation= »true » column_padding_type= »default » gradient_type= »default » border_animation_delay= »150″][split_line_heading animation_type= »line-reveal-by-space » font_style= »h4″ text_color= »#000000″ line_reveal_by_space_text_effect= »default » content_alignment= »default » mobile_content_alignment= »inherit » link_target= »_self » text_content= »Artothèque de Caen » font_size= »1em » text_direction= »default » font_line_height= »1.1″][/split_line_heading][nectar_responsive_text inherited_font_style= »default » font_size_desktop= »1em » text_direction= »default »]EXPOSITION\ndu 8 février au 16 mai 2019[/nectar_responsive_text][/vc_column_inner][/vc_row_inner][/vc_column][/vc_row]
URL:https://adra-artotheques.com/evenement/la-raccoon-academy-guillaume-pinard/
CATEGORIES:Artothèque de Caen
ATTACH;FMTTYPE=image/jpeg:https://adra-artotheques.com/wp-content/uploads/2024/09/artotheque-12-2.jpg
END:VEVENT
END:VCALENDAR